BEGIN:VCALENDAR
VERSION:2.0
PRODID:-//SyDK e.V. - ECPv6.14.2//NONSGML v1.0//EN
CALSCALE:GREGORIAN
METHOD:PUBLISH
X-ORIGINAL-URL:https://www.sydk.de
X-WR-CALDESC:Veranstaltungen für SyDK e.V.
REFRESH-INTERVAL;VALUE=DURATION:PT1H
X-Robots-Tag:noindex
X-PUBLISHED-TTL:PT1H
BEGIN:VTIMEZONE
TZID:Europe/Berlin
BEGIN:DAYLIGHT
TZOFFSETFROM:+0100
TZOFFSETTO:+0200
TZNAME:CEST
DTSTART:20250330T010000
END:DAYLIGHT
BEGIN:STANDARD
TZOFFSETFROM:+0200
TZOFFSETTO:+0100
TZNAME:CET
DTSTART:20251026T010000
END:STANDARD
END:VTIMEZONE
BEGIN:VEVENT
DTSTART;TZID=Europe/Berlin:20251122T200000
DTEND;TZID=Europe/Berlin:20251122T220000
DTSTAMP:20260423T111645
CREATED:20250529T222708Z
LAST-MODIFIED:20251121T230432Z
UID:2169-1763841600-1763848800@www.sydk.de
SUMMARY:Mitgliederversammlung
DESCRIPTION:Unsere jährliche Mitgliederversammlung. \nMitgliederversammlung findet dieses Jahr online statt
URL:https://www.sydk.de/event/mitgliederversammlung/
LOCATION:Neuberg\, Neuberg\, Hessen\, 63543\, Germany
CATEGORIES:Mitgliederversammlung
END:VEVENT
END:VCALENDAR