BEGIN:VCALENDAR
VERSION:2.0
PRODID:-//SyDK e.V. - ECPv6.14.2//NONSGML v1.0//EN
CALSCALE:GREGORIAN
METHOD:PUBLISH
X-WR-CALNAME:SyDK e.V.
X-ORIGINAL-URL:https://www.sydk.de
X-WR-CALDESC:Veranstaltungen für SyDK e.V.
REFRESH-INTERVAL;VALUE=DURATION:PT1H
X-Robots-Tag:noindex
X-PUBLISHED-TTL:PT1H
BEGIN:VTIMEZONE
TZID:Europe/Berlin
BEGIN:DAYLIGHT
TZOFFSETFROM:+0100
TZOFFSETTO:+0200
TZNAME:CEST
DTSTART:20260329T010000
END:DAYLIGHT
BEGIN:STANDARD
TZOFFSETFROM:+0200
TZOFFSETTO:+0100
TZNAME:CET
DTSTART:20261025T010000
END:STANDARD
END:VTIMEZONE
BEGIN:VEVENT
DTSTART;VALUE=DATE:20260501
DTEND;VALUE=DATE:20260504
DTSTAMP:20260423T140726
CREATED:20251114T221313Z
LAST-MODIFIED:20251121T222925Z
UID:3308-1777593600-1777852799@www.sydk.de
SUMMARY:Familienwanderung & Entdecke Deutschland
DESCRIPTION:
URL:https://www.sydk.de/event/familienwanderung-entdecke-deutschland/
LOCATION:Hessen
CATEGORIES:Wanderung
END:VEVENT
BEGIN:VEVENT
DTSTART;VALUE=DATE:20260912
DTEND;VALUE=DATE:20260913
DTSTAMP:20260423T140726
CREATED:20251114T221405Z
LAST-MODIFIED:20251114T221405Z
UID:3310-1789171200-1789257599@www.sydk.de
SUMMARY:SUKNA2 & Entdecke Syrien
DESCRIPTION:
URL:https://www.sydk.de/event/sukna2-entdecke-syrien/
LOCATION:Hessen
CATEGORIES:Essen,Musik,Tanzen
END:VEVENT
BEGIN:VEVENT
DTSTART;VALUE=DATE:20261121
DTEND;VALUE=DATE:20261122
DTSTAMP:20260423T140726
CREATED:20251114T221527Z
LAST-MODIFIED:20251114T221538Z
UID:3312-1795219200-1795305599@www.sydk.de
SUMMARY:Mitgliederversammlung
DESCRIPTION:
URL:https://www.sydk.de/event/mitgliederversammlung-2/
LOCATION:Hessen
END:VEVENT
BEGIN:VEVENT
DTSTART;VALUE=DATE:20261231
DTEND;VALUE=DATE:20270101
DTSTAMP:20260423T140726
CREATED:20251114T221625Z
LAST-MODIFIED:20251114T221625Z
UID:3314-1798675200-1798761599@www.sydk.de
SUMMARY:Sylvester 2026
DESCRIPTION:
URL:https://www.sydk.de/event/sylvester-2026/
LOCATION:Hessen
CATEGORIES:Essen,Musik,Tanzen
END:VEVENT
END:VCALENDAR